BEGIN:VCALENDAR
VERSION:2.0
PRODID:-//Schudio.com//Schudio Calendar 1.0//EN
CALSCALE:GREGORIAN
METHOD:PUBLISH
X-WR-CALNAME:Armathwaite Community School
X-WR-TIMEZONE:Europe/London
BEGIN:VEVENT
SUMMARY:Summer Holidays
UID:a1eafaf5e36686788073e590fc69f549@schudio.com
SEQUENCE:0
STATUS:CONFIRMED
TRANSP:TRANSPARENT
DTSTART;VALUE=DATE:20270719
DTEND;VALUE=DATE:20270906
DTSTAMP:20260420T163411Z
CREATED:20260126T095630Z
LAST-MODIFIED:20260126T095642Z
CATEGORIES:
LOCATION:
ORGANIZER:
DESCRIPTION:
END:VEVENT
END:VCALENDAR